BEGIN:VCALENDAR
VERSION:2.0
PRODID:-//Tukios.com/
BEGIN:VEVENT
UID:dcf31ae5-898e-4153-b9e8-9497c5a22ae5@www.hachmannfuneralhome.com
DTSTAMP:20260423T210034Z
DTSTART:20260427T140000Z
DTEND:20260427T153000Z
SUMMARY:Visitation
DESCRIPTION:
URL:https://www.hachmannfuneralhome.com/obituaries/olivia-ernst
LOCATION: 100 N 6th St  Bellevue IA 52031
GEO:42.2575289;-90.4293959
END:VEVENT
END:VCALENDAR