BEGIN:VCALENDAR
VERSION:2.0
PRODID:-//Tukios.com/
BEGIN:VEVENT
UID:9197ab37-a61c-47d1-9d66-d2eb1d84035a@www.hachmannfuneralhome.com
DTSTAMP:20260423T205916Z
DTSTART:20260427T160000Z
DTEND:20260427T164500Z
SUMMARY:Mass
DESCRIPTION:
URL:https://www.hachmannfuneralhome.com/obituaries/olivia-ernst
LOCATION: 405 Franklin St  Bellevue IA 52031
GEO:42.2606789;-90.4284631
END:VEVENT
END:VCALENDAR